Workbook
Name _Hlk83820730: Instructies!$V$10
Name Overheidsopdracht: #REF!

Sheet Instructies
B10: AFREKENING DIGIBANKEN - VERLENGING
B12: INSTRUCTIES
B14: Gebruik dit sjabloon voor de eindrapportering over de gemaakte kosten (en ontvangsten) van uw project in het kader van de oproep 'Digibanken - Verlenging'. Het sjabloon bestaat uit volgende tabbladen: - Instructies (huidig tabblad): lees de informatie vooraleer u begint met het invullen van de tussentijdse rapportering in de Excel. - Identificatiegegevens: vul hier de uw gegevens in (als promotor/hoofdaanvrager van het project) en van de partners die deel uitmaken van het partnerschap. - Loonkosten - Werkingskosten - Externe prestaties - Investeringskosten - Ontvangsten - Totaal kosten: een samenvatting van de voorgaande tabbladen. Elk tabblad bevat specifiek instructies die u kan nalezen door op het '+' symbool te duwen bovenaan. Door op het '-'symbool te duwen wordt dit opnieuw verborgen. U start best met het invullen van de identificatiegegevens, dat maakt het invullen van de andere tabbladen gemakkelijker. Elke kost koppelt u via het keuzemenu telkens aan één van de drie hoofddoelstellingen van de oproep, of als overkoepelende kost voor alle doelstellingen. Dit Excelbestand (als excel, niet als pdf) dient u (samen met de nodige bewijsstukken) toe te voegen aan uw rapport in PLATOS. In dit sjabloon is er een korte toelichting opgenomen over bepaalde kosten en hun berekening. Meer informatie over de al dan niet subsidiabele kosten en de bewijslast leest u in de handleiding en de financiële richtlijnen van de oproep 'Digibanken - Verlenging'. Bij vragen: digibanken@vlaanderen.be of 02 553 31 69. Versie 1.7

Sheet Identificatiegegevens
A2: PROJECTGEGEVENS | O2: ingediend | P2: goedgekeurd
A3: Projectnaam | N3: Totaal opdrachtgevers | O3: =SUMIF(Identificatiegegevens!$D$14:$D$143,"promotor",Identificatiegegevens!$L$14:$L$143)+SUMIF(Identificatiegegevens!$D$14:$D$143,"partner",Identificatiegegevens!$L$14:$L$143) -> 0 | P3: =SUMIF(Identificatiegegevens!$D$14:$D$143,"promotor",Identificatiegegevens!$S$14:$S$143)+SUMIF(Identificatiegegevens!$D$14:$D$143,"partner",Identificatiegegevens!$S$14:$S$143) -> 0
A4: Projectperiode (xx/xx/20xx - xx/xx/20xx) | N4: Totaal onderaannemers | O4: =SUMIF(Identificatiegegevens!$D$14:$D$143,"Onderaannemer (of leverancier)",Identificatiegegevens!$L$14:$L$143)+SUMIF(Identificatiegegevens!$D$14:$D$143,"Vrijwilliger",Identificatiegegevens!$L$14:$L$143) -> 0 | P4: =SUMIF(Identificatiegegevens!$D$14:$D$143,"Onderaannemer (of leverancier)",Identificatiegegevens!$S$14:$S$143)+SUMIF(Identificatiegegevens!$D$14:$D$143,"Vrijwilliger",Identificatiegegevens!$S$14:$S$143) -> 0
A5: Contactpersoon bij promotor voor bijkomende info
A6: Email contactpersoon
A7: Telefoon contactpersoon
A9: IDENTIFICATIE PARTNERS
B11: Gelieve hier alle partners en onderaannemers/leveranciers die in opdracht werken te vermelden. De gegevens worden automatisch ingevuld op basis van de gegevens in de andere tabbladen.
A13: Partners | B13: NAAM ORGANISATIE OF PERSOON | C13: KBO-NUMMER | D13: TYPE | E13: OPDRACHTGEVER | F13: LOONKOSTEN | G13: OVERHEADKOSTEN | H13: WERKINGSKOSTEN | I13: EXTERNE PRESTATIES | J13: INVESTERINGSKOSTEN | K13: ONTVANGSTEN | L13: TOTAAL | M13: LOONKOSTEN GOEDGEKEURD | N13: OVERHEADKOSTEN GOEDGEKEURD | O13: WERKINGSKOSTEN GOEDGEKEURD | P13: EXTERNE PRESTATIES GOEDGEKEURD | Q13: INVESTERINGSKOSTEN GOEDGEKEURD | R13: ONTVANGSTEN GOEDGEKEURD | S13: TOTAAL GOEDGEKEURD
A14: Organisatie 1 (promotor) | E14: {=IF(ISBLANK(Identificatiegegevens!$B14),"",_xlfn.TEXTJOIN("; ",TRUE,_xlfn.UNIQUE(IF(_xlfn.VSTACK(Tabel3[Naam leverancier of onderaannemer],Tabel4[Naam leverancier of onderaannemer],Tabel5[Naam leverancier of onderaannemer])=Identificatiegegevens!$B14,_xlfn.VSTACK(Tabel3[Opdrachtgevende Partnerorganisatie],Tabel4[Opdrachtgevende Partnerorganisatie],Tabel5[Opdrachtgevende Partnerorganisatie]),""))))} | F14: =IF(Identificatiegegevens!$B14="","",SUMIF(Tabel2[Partnerorganisatie],Identificatiegegevens!$B14,Tabel2[Totaal personeelskost])) | G14: =IF(Identificatiegegevens!$B14="","",Identificatiegegevens!$F14*0.15) | H14: =IF(Identificatiegegevens!$B14="","",IF(OR(Identificatiegegevens!$D14="promotor",Identificatiegegevens!$D14="partner"),SUMIF(Tabel3[Opdrachtgevende Partnerorganisatie],Identificatiegegevens!$B14,Tabel3[Totaal]),SUMIF(Tabel3[Naam leverancier of onderaannemer],Identificatiegegevens!$B14,Tabel3[Totaal]))) | I14: =IF(Identificatiegegevens!$B14="","",IF(OR(Identificatiegegevens!$D14="promotor",Identificatiegegevens!$D14="partner"),SUMIF(Tabel4[Opdrachtgevende Partnerorganisatie],Identificatiegegevens!$B14,Tabel4[Totaal]),SUMIF(Tabel4[Naam leverancier of onderaannemer],Identificatiegegevens!$B14,Tabel4[Totaal]))) | J14: =IF(Identificatiegegevens!$B14="","",IF(OR(Identificatiegegevens!$D14="promotor",Identificatiegegevens!$D14="partner"),SUMIF(Tabel5[Opdrachtgevende Partnerorganisatie],Identificatiegegevens!$B14,Tabel5[Totaal]),SUMIF(Tabel5[Naam leverancier of onderaannemer],Identificatiegegevens!$B14,Tabel5[Totaal]))) | K14: =IF(Identificatiegegevens!$B14="","",-SUMIF(Tabel6[Partnerorganisatie],Identificatiegegevens!$B14,Tabel6[Bedrag])) | L14: =IF(Identificatiegegevens!$B14="","",SUM(Identificatiegegevens!$F14:$K14)) | M14: =IF(Identificatiegegevens!$B14="","",SUMIF(Tabel2[Partnerorganisatie],Identificatiegegevens!$B14,Tabel2[Aanvaarde kost])) | N14: =IF(Identificatiegegevens!$B14="","",Identificatiegegevens!$M14*0.15) | O14: =IF(Identificatiegegevens!$B14="","",IF(OR(Identificatiegegevens!$D14="promotor",Identificatiegegevens!$D14="partner"),SUMIF(Tabel3[Opdrachtgevende Partnerorganisatie],Identificatiegegevens!$B14,Tabel3[Aanvaarde kost]),SUMIF(Tabel3[Naam leverancier of onderaannemer],Identificatiegegevens!$B14,Tabel3[Aanvaarde kost]))) | P14: =IF(Identificatiegegevens!$B14="","",IF(OR(Identificatiegegevens!$D14="promotor",Identificatiegegevens!$D14="partner"),SUMIF(Tabel4[Opdrachtgevende Partnerorganisatie],Identificatiegegevens!$B14,Tabel4[Aanvaarde kost]),SUMIF(Tabel4[Naam leverancier of onderaannemer],Identificatiegegevens!$B14,Tabel4[Aanvaarde kost]))) | Q14: =IF(Identificatiegegevens!$B14="","",IF(OR(Identificatiegegevens!$D14="promotor",Identificatiegegevens!$D14="partner"),SUMIF(Tabel5[Opdrachtgevende Partnerorganisatie],Identificatiegegevens!$B14,Tabel5[Aanvaarde kost]),SUMIF(Tabel5[Naam leverancier of onderaannemer],Identificatiegegevens!$B14,Tabel5[Aanvaarde kost]))) | R14: =IF(Identificatiegegevens!$B14="","",-SUMIF(Tabel6[Partnerorganisatie],Identificatiegegevens!$B14,Tabel6[Aanvaarde ontvangsten])) | S14: =IF(Identificatiegegevens!$B14="","",SUM(Identificatiegegevens!$M14:$R14))
A15: Organisatie 2 | E15: {=IF(ISBLANK(Identificatiegegevens!$B15),"",_xlfn.TEXTJOIN("; ",TRUE,_xlfn.UNIQUE(IF(_xlfn.VSTACK(Tabel3[Naam leverancier of onderaannemer],Tabel4[Naam leverancier of onderaannemer],Tabel5[Naam leverancier of onderaannemer])=Identificatiegegevens!$B15,_xlfn.VSTACK(Tabel3[Opdrachtgevende Partnerorganisatie],Tabel4[Opdrachtgevende Partnerorganisatie],Tabel5[Opdrachtgevende Partnerorganisatie]),""))))} | F15: =IF(Identificatiegegevens!$B15="","",SUMIF(Tabel2[Partnerorganisatie],Identificatiegegevens!$B15,Tabel2[Totaal personeelskost])) | G15: =IF(Identificatiegegevens!$B15="","",Identificatiegegevens!$F15*0.15) | H15: =IF(Identificatiegegevens!$B15="","",IF(OR(Identificatiegegevens!$D15="promotor",Identificatiegegevens!$D15="partner"),SUMIF(Tabel3[Opdrachtgevende Partnerorganisatie],Identificatiegegevens!$B15,Tabel3[Totaal]),SUMIF(Tabel3[Naam leverancier of onderaannemer],Identificatiegegevens!$B15,Tabel3[Totaal]))) | I15: =IF(Identificatiegegevens!$B15="","",IF(OR(Identificatiegegevens!$D15="promotor",Identificatiegegevens!$D15="partner"),SUMIF(Tabel4[Opdrachtgevende Partnerorganisatie],Identificatiegegevens!$B15,Tabel4[Totaal]),SUMIF(Tabel4[Naam leverancier of onderaannemer],Identificatiegegevens!$B15,Tabel4[Totaal]))) | J15: =IF(Identificatiegegevens!$B15="","",IF(OR(Identificatiegegevens!$D15="promotor",Identificatiegegevens!$D15="partner"),SUMIF(Tabel5[Opdrachtgevende Partnerorganisatie],Identificatiegegevens!$B15,Tabel5[Totaal]),SUMIF(Tabel5[Naam leverancier of onderaannemer],Identificatiegegevens!$B15,Tabel5[Totaal]))) | K15: =IF(Identificatiegegevens!$B15="","",-SUMIF(Tabel6[Partnerorganisatie],Identificatiegegevens!$B15,Tabel6[Bedrag])) | L15: =IF(Identificatiegegevens!$B15="","",SUM(Identificatiegegevens!$F15:$K15)) | M15: =IF(Identificatiegegevens!$B15="","",SUMIF(Tabel2[Partnerorganisatie],Identificatiegegevens!$B15,Tabel2[Aanvaarde kost])) | N15: =IF(Identificatiegegevens!$B15="","",Identificatiegegevens!$M15*0.15) | O15: =IF(Identificatiegegevens!$B15="","",IF(OR(Identificatiegegevens!$D15="promotor",Identificatiegegevens!$D15="partner"),SUMIF(Tabel3[Opdrachtgevende Partnerorganisatie],Identificatiegegevens!$B15,Tabel3[Aanvaarde kost]),SUMIF(Tabel3[Naam leverancier of onderaannemer],Identificatiegegevens!$B15,Tabel3[Aanvaarde kost]))) | P15: =IF(Identificatiegegevens!$B15="","",IF(OR(Identificatiegegevens!$D15="promotor",Identificatiegegevens!$D15="partner"),SUMIF(Tabel4[Opdrachtgevende Partnerorganisatie],Identificatiegegevens!$B15,Tabel4[Aanvaarde kost]),SUMIF(Tabel4[Naam leverancier of onderaannemer],Identificatiegegevens!$B15,Tabel4[Aanvaarde kost]))) | Q15: =IF(Identificatiegegevens!$B15="","",IF(OR(Identificatiegegevens!$D15="promotor",Identificatiegegevens!$D15="partner"),SUMIF(Tabel5[Opdrachtgevende Partnerorganisatie],Identificatiegegevens!$B15,Tabel5[Aanvaarde kost]),SUMIF(Tabel5[Naam leverancier of onderaannemer],Identificatiegegevens!$B15,Tabel5[Aanvaarde kost]))) | R15: =IF(Identificatiegegevens!$B15="","",-SUMIF(Tabel6[Partnerorganisatie],Identificatiegegevens!$B15,Tabel6[Aanvaarde ontvangsten])) | S15: =IF(Identificatiegegevens!$B15="","",SUM(Identificatiegegevens!$M15:$R15))
A16: Organisatie 3 | E16: {=IF(ISBLANK(Identificatiegegevens!$B16),"",_xlfn.TEXTJOIN("; ",TRUE,_xlfn.UNIQUE(IF(_xlfn.VSTACK(Tabel3[Naam leverancier of onderaannemer],Tabel4[Naam leverancier of onderaannemer],Tabel5[Naam leverancier of onderaannemer])=Identificatiegegevens!$B16,_xlfn.VSTACK(Tabel3[Opdrachtgevende Partnerorganisatie],Tabel4[Opdrachtgevende Partnerorganisatie],Tabel5[Opdrachtgevende Partnerorganisatie]),""))))} | F16: =IF(Identificatiegegevens!$B16="","",SUMIF(Tabel2[Partnerorganisatie],Identificatiegegevens!$B16,Tabel2[Totaal personeelskost])) | G16: =IF(Identificatiegegevens!$B16="","",Identificatiegegevens!$F16*0.15) | H16: =IF(Identificatiegegevens!$B16="","",IF(OR(Identificatiegegevens!$D16="promotor",Identificatiegegevens!$D16="partner"),SUMIF(Tabel3[Opdrachtgevende Partnerorganisatie],Identificatiegegevens!$B16,Tabel3[Totaal]),SUMIF(Tabel3[Naam leverancier of onderaannemer],Identificatiegegevens!$B16,Tabel3[Totaal]))) | I16: =IF(Identificatiegegevens!$B16="","",IF(OR(Identificatiegegevens!$D16="promotor",Identificatiegegevens!$D16="partner"),SUMIF(Tabel4[Opdrachtgevende Partnerorganisatie],Identificatiegegevens!$B16,Tabel4[Totaal]),SUMIF(Tabel4[Naam leverancier of onderaannemer],Identificatiegegevens!$B16,Tabel4[Totaal]))) | J16: =IF(Identificatiegegevens!$B16="","",IF(OR(Identificatiegegevens!$D16="promotor",Identificatiegegevens!$D16="partner"),SUMIF(Tabel5[Opdrachtgevende Partnerorganisatie],Identificatiegegevens!$B16,Tabel5[Totaal]),SUMIF(Tabel5[Naam leverancier of onderaannemer],Identificatiegegevens!$B16,Tabel5[Totaal]))) | K16: =IF(Identificatiegegevens!$B16="","",-SUMIF(Tabel6[Partnerorganisatie],Identificatiegegevens!$B16,Tabel6[Bedrag])) | L16: =IF(Identificatiegegevens!$B16="","",SUM(Identificatiegegevens!$F16:$K16)) | M16: =IF(Identificatiegegevens!$B16="","",SUMIF(Tabel2[Partnerorganisatie],Identificatiegegevens!$B16,Tabel2[Aanvaarde kost])) | N16: =IF(Identificatiegegevens!$B16="","",Identificatiegegevens!$M16*0.15) | O16: =IF(Identificatiegegevens!$B16="","",IF(OR(Identificatiegegevens!$D16="promotor",Identificatiegegevens!$D16="partner"),SUMIF(Tabel3[Opdrachtgevende Partnerorganisatie],Identificatiegegevens!$B16,Tabel3[Aanvaarde kost]),SUMIF(Tabel3[Naam leverancier of onderaannemer],Identificatiegegevens!$B16,Tabel3[Aanvaarde kost]))) | P16: =IF(Identificatiegegevens!$B16="","",IF(OR(Identificatiegegevens!$D16="promotor",Identificatiegegevens!$D16="partner"),SUMIF(Tabel4[Opdrachtgevende Partnerorganisatie],Identificatiegegevens!$B16,Tabel4[Aanvaarde kost]),SUMIF(Tabel4[Naam leverancier of onderaannemer],Identificatiegegevens!$B16,Tabel4[Aanvaarde kost]))) | Q16: =IF(Identificatiegegevens!$B16="","",IF(OR(Identificatiegegevens!$D16="promotor",Identificatiegegevens!$D16="partner"),SUMIF(Tabel5[Opdrachtgevende Partnerorganisatie],Identificatiegegevens!$B16,Tabel5[Aanvaarde kost]),SUMIF(Tabel5[Naam leverancier of onderaannemer],Identificatiegegevens!$B16,Tabel5[Aanvaarde kost]))) | R16: =IF(Identificatiegegevens!$B16="","",-SUMIF(Tabel6[Partnerorganisatie],Identificatiegegevens!$B16,Tabel6[Aanvaarde ontvangsten])) | S16: =IF(Identificatiegegevens!$B16="","",SUM(Identificatiegegevens!$M16:$R16))
A17: Organisatie 4 | E17: {=IF(ISBLANK(Identificatiegegevens!$B17),"",_xlfn.TEXTJOIN("; ",TRUE,_xlfn.UNIQUE(IF(_xlfn.VSTACK(Tabel3[Naam leverancier of onderaannemer],Tabel4[Naam leverancier of onderaannemer],Tabel5[Naam leverancier of onderaannemer])=Identificatiegegevens!$B17,_xlfn.VSTACK(Tabel3[Opdrachtgevende Partnerorganisatie],Tabel4[Opdrachtgevende Partnerorganisatie],Tabel5[Opdrachtgevende Partnerorganisatie]),""))))} | F17: =IF(Identificatiegegevens!$B17="","",SUMIF(Tabel2[Partnerorganisatie],Identificatiegegevens!$B17,Tabel2[Totaal personeelskost])) | G17: =IF(Identificatiegegevens!$B17="","",Identificatiegegevens!$F17*0.15) | H17: =IF(Identificatiegegevens!$B17="","",IF(OR(Identificatiegegevens!$D17="promotor",Identificatiegegevens!$D17="partner"),SUMIF(Tabel3[Opdrachtgevende Partnerorganisatie],Identificatiegegevens!$B17,Tabel3[Totaal]),SUMIF(Tabel3[Naam leverancier of onderaannemer],Identificatiegegevens!$B17,Tabel3[Totaal]))) | I17: =IF(Identificatiegegevens!$B17="","",IF(OR(Identificatiegegevens!$D17="promotor",Identificatiegegevens!$D17="partner"),SUMIF(Tabel4[Opdrachtgevende Partnerorganisatie],Identificatiegegevens!$B17,Tabel4[Totaal]),SUMIF(Tabel4[Naam leverancier of onderaannemer],Identificatiegegevens!$B17,Tabel4[Totaal]))) | J17: =IF(Identificatiegegevens!$B17="","",IF(OR(Identificatiegegevens!$D17="promotor",Identificatiegegevens!$D17="partner"),SUMIF(Tabel5[Opdrachtgevende Partnerorganisatie],Identificatiegegevens!$B17,Tabel5[Totaal]),SUMIF(Tabel5[Naam leverancier of onderaannemer],Identificatiegegevens!$B17,Tabel5[Totaal]))) | K17: =IF(Identificatiegegevens!$B17="","",-SUMIF(Tabel6[Partnerorganisatie],Identificatiegegevens!$B17,Tabel6[Bedrag])) | L17: =IF(Identificatiegegevens!$B17="","",SUM(Identificatiegegevens!$F17:$K17)) | M17: =IF(Identificatiegegevens!$B17="","",SUMIF(Tabel2[Partnerorganisatie],Identificatiegegevens!$B17,Tabel2[Aanvaarde kost])) | N17: =IF(Identificatiegegevens!$B17="","",Identificatiegegevens!$M17*0.15) | O17: =IF(Identificatiegegevens!$B17="","",IF(OR(Identificatiegegevens!$D17="promotor",Identificatiegegevens!$D17="partner"),SUMIF(Tabel3[Opdrachtgevende Partnerorganisatie],Identificatiegegevens!$B17,Tabel3[Aanvaarde kost]),SUMIF(Tabel3[Naam leverancier of onderaannemer],Identificatiegegevens!$B17,Tabel3[Aanvaarde kost]))) | P17: =IF(Identificatiegegevens!$B17="","",IF(OR(Identificatiegegevens!$D17="promotor",Identificatiegegevens!$D17="partner"),SUMIF(Tabel4[Opdrachtgevende Partnerorganisatie],Identificatiegegevens!$B17,Tabel4[Aanvaarde kost]),SUMIF(Tabel4[Naam leverancier of onderaannemer],Identificatiegegevens!$B17,Tabel4[Aanvaarde kost]))) | Q17: =IF(Identificatiegegevens!$B17="","",IF(OR(Identificatiegegevens!$D17="promotor",Identificatiegegevens!$D17="partner"),SUMIF(Tabel5[Opdrachtgevende Partnerorganisatie],Identificatiegegevens!$B17,Tabel5[Aanvaarde kost]),SUMIF(Tabel5[Naam leverancier of onderaannemer],Identificatiegegevens!$B17,Tabel5[Aanvaarde kost]))) | R17: =IF(Identificatiegegevens!$B17="","",-SUMIF(Tabel6[Partnerorganisatie],Identificatiegegevens!$B17,Tabel6[Aanvaarde ontvangsten])) | S17: =IF(Identificatiegegevens!$B17="","",SUM(Identificatiegegevens!$M17:$R17))
A18: Organisatie 5 | E18: {=IF(ISBLANK(Identificatiegegevens!$B18),"",_xlfn.TEXTJOIN("; ",TRUE,_xlfn.UNIQUE(IF(_xlfn.VSTACK(Tabel3[Naam leverancier of onderaannemer],Tabel4[Naam leverancier of onderaannemer],Tabel5[Naam leverancier of onderaannemer])=Identificatiegegevens!$B18,_xlfn.VSTACK(Tabel3[Opdrachtgevende Partnerorganisatie],Tabel4[Opdrachtgevende Partnerorganisatie],Tabel5[Opdrachtgevende Partnerorganisatie]),""))))} | F18: =IF(Identificatiegegevens!$B18="","",SUMIF(Tabel2[Partnerorganisatie],Identificatiegegevens!$B18,Tabel2[Totaal personeelskost])) | G18: =IF(Identificatiegegevens!$B18="","",Identificatiegegevens!$F18*0.15) | H18: =IF(Identificatiegegevens!$B18="","",IF(OR(Identificatiegegevens!$D18="promotor",Identificatiegegevens!$D18="partner"),SUMIF(Tabel3[Opdrachtgevende Partnerorganisatie],Identificatiegegevens!$B18,Tabel3[Totaal]),SUMIF(Tabel3[Naam leverancier of onderaannemer],Identificatiegegevens!$B18,Tabel3[Totaal]))) | I18: =IF(Identificatiegegevens!$B18="","",IF(OR(Identificatiegegevens!$D18="promotor",Identificatiegegevens!$D18="partner"),SUMIF(Tabel4[Opdrachtgevende Partnerorganisatie],Identificatiegegevens!$B18,Tabel4[Totaal]),SUMIF(Tabel4[Naam leverancier of onderaannemer],Identificatiegegevens!$B18,Tabel4[Totaal]))) | J18: =IF(Identificatiegegevens!$B18="","",IF(OR(Identificatiegegevens!$D18="promotor",Identificatiegegevens!$D18="partner"),SUMIF(Tabel5[Opdrachtgevende Partnerorganisatie],Identificatiegegevens!$B18,Tabel5[Totaal]),SUMIF(Tabel5[Naam leverancier of onderaannemer],Identificatiegegevens!$B18,Tabel5[Totaal]))) | K18: =IF(Identificatiegegevens!$B18="","",-SUMIF(Tabel6[Partnerorganisatie],Identificatiegegevens!$B18,Tabel6[Bedrag])) | L18: =IF(Identificatiegegevens!$B18="","",SUM(Identificatiegegevens!$F18:$K18)) | M18: =IF(Identificatiegegevens!$B18="","",SUMIF(Tabel2[Partnerorganisatie],Identificatiegegevens!$B18,Tabel2[Aanvaarde kost])) | N18: =IF(Identificatiegegevens!$B18="","",Identificatiegegevens!$M18*0.15) | O18: =IF(Identificatiegegevens!$B18="","",IF(OR(Identificatiegegevens!$D18="promotor",Identificatiegegevens!$D18="partner"),SUMIF(Tabel3[Opdrachtgevende Partnerorganisatie],Identificatiegegevens!$B18,Tabel3[Aanvaarde kost]),SUMIF(Tabel3[Naam leverancier of onderaannemer],Identificatiegegevens!$B18,Tabel3[Aanvaarde kost]))) | P18: =IF(Identificatiegegevens!$B18="","",IF(OR(Identificatiegegevens!$D18="promotor",Identificatiegegevens!$D18="partner"),SUMIF(Tabel4[Opdrachtgevende Partnerorganisatie],Identificatiegegevens!$B18,Tabel4[Aanvaarde kost]),SUMIF(Tabel4[Naam leverancier of onderaannemer],Identificatiegegevens!$B18,Tabel4[Aanvaarde kost]))) | Q18: =IF(Identificatiegegevens!$B18="","",IF(OR(Identificatiegegevens!$D18="promotor",Identificatiegegevens!$D18="partner"),SUMIF(Tabel5[Opdrachtgevende Partnerorganisatie],Identificatiegegevens!$B18,Tabel5[Aanvaarde kost]),SUMIF(Tabel5[Naam leverancier of onderaannemer],Identificatiegegevens!$B18,Tabel5[Aanvaarde kost]))) | R18: =IF(Identificatiegegevens!$B18="","",-SUMIF(Tabel6[Partnerorganisatie],Identificatiegegevens!$B18,Tabel6[Aanvaarde ontvangsten])) | S18: =IF(Identificatiegegevens!$B18="","",SUM(Identificatiegegevens!$M18:$R18))
A19: Organisatie 6 | E19: {=IF(ISBLANK(Identificatiegegevens!$B19),"",_xlfn.TEXTJOIN("; ",TRUE,_xlfn.UNIQUE(IF(_xlfn.VSTACK(Tabel3[Naam leverancier of onderaannemer],Tabel4[Naam leverancier of onderaannemer],Tabel5[Naam leverancier of onderaannemer])=Identificatiegegevens!$B19,_xlfn.VSTACK(Tabel3[Opdrachtgevende Partnerorganisatie],Tabel4[Opdrachtgevende Partnerorganisatie],Tabel5[Opdrachtgevende Partnerorganisatie]),""))))} | F19: =IF(Identificatiegegevens!$B19="","",SUMIF(Tabel2[Partnerorganisatie],Identificatiegegevens!$B19,Tabel2[Totaal personeelskost])) | G19: =IF(Identificatiegegevens!$B19="","",Identificatiegegevens!$F19*0.15) | H19: =IF(Identificatiegegevens!$B19="","",IF(OR(Identificatiegegevens!$D19="promotor",Identificatiegegevens!$D19="partner"),SUMIF(Tabel3[Opdrachtgevende Partnerorganisatie],Identificatiegegevens!$B19,Tabel3[Totaal]),SUMIF(Tabel3[Naam leverancier of onderaannemer],Identificatiegegevens!$B19,Tabel3[Totaal]))) | I19: =IF(Identificatiegegevens!$B19="","",IF(OR(Identificatiegegevens!$D19="promotor",Identificatiegegevens!$D19="partner"),SUMIF(Tabel4[Opdrachtgevende Partnerorganisatie],Identificatiegegevens!$B19,Tabel4[Totaal]),SUMIF(Tabel4[Naam leverancier of onderaannemer],Identificatiegegevens!$B19,Tabel4[Totaal]))) | J19: =IF(Identificatiegegevens!$B19="","",IF(OR(Identificatiegegevens!$D19="promotor",Identificatiegegevens!$D19="partner"),SUMIF(Tabel5[Opdrachtgevende Partnerorganisatie],Identificatiegegevens!$B19,Tabel5[Totaal]),SUMIF(Tabel5[Naam leverancier of onderaannemer],Identificatiegegevens!$B19,Tabel5[Totaal]))) | K19: =IF(Identificatiegegevens!$B19="","",-SUMIF(Tabel6[Partnerorganisatie],Identificatiegegevens!$B19,Tabel6[Bedrag])) | L19: =IF(Identificatiegegevens!$B19="","",SUM(Identificatiegegevens!$F19:$K19)) | M19: =IF(Identificatiegegevens!$B19="","",SUMIF(Tabel2[Partnerorganisatie],Identificatiegegevens!$B19,Tabel2[Aanvaarde kost])) | N19: =IF(Identificatiegegevens!$B19="","",Identificatiegegevens!$M19*0.15) | O19: =IF(Identificatiegegevens!$B19="","",IF(OR(Identificatiegegevens!$D19="promotor",Identificatiegegevens!$D19="partner"),SUMIF(Tabel3[Opdrachtgevende Partnerorganisatie],Identificatiegegevens!$B19,Tabel3[Aanvaarde kost]),SUMIF(Tabel3[Naam leverancier of onderaannemer],Identificatiegegevens!$B19,Tabel3[Aanvaarde kost]))) | P19: =IF(Identificatiegegevens!$B19="","",IF(OR(Identificatiegegevens!$D19="promotor",Identificatiegegevens!$D19="partner"),SUMIF(Tabel4[Opdrachtgevende Partnerorganisatie],Identificatiegegevens!$B19,Tabel4[Aanvaarde kost]),SUMIF(Tabel4[Naam leverancier of onderaannemer],Identificatiegegevens!$B19,Tabel4[Aanvaarde kost]))) | Q19: =IF(Identificatiegegevens!$B19="","",IF(OR(Identificatiegegevens!$D19="promotor",Identificatiegegevens!$D19="partner"),SUMIF(Tabel5[Opdrachtgevende Partnerorganisatie],Identificatiegegevens!$B19,Tabel5[Aanvaarde kost]),SUMIF(Tabel5[Naam leverancier of onderaannemer],Identificatiegegevens!$B19,Tabel5[Aanvaarde kost]))) | R19: =IF(Identificatiegegevens!$B19="","",-SUMIF(Tabel6[Partnerorganisatie],Identificatiegegevens!$B19,Tabel6[Aanvaarde ontvangsten])) | S19: =IF(Identificatiegegevens!$B19="","",SUM(Identificatiegegevens!$M19:$R19))
A20: Organisatie 7 | E20: {=IF(ISBLANK(Identificatiegegevens!$B20),"",_xlfn.TEXTJOIN("; ",TRUE,_xlfn.UNIQUE(IF(_xlfn.VSTACK(Tabel3[Naam leverancier of onderaannemer],Tabel4[Naam leverancier of onderaannemer],Tabel5[Naam leverancier of onderaannemer])=Identificatiegegevens!$B20,_xlfn.VSTACK(Tabel3[Opdrachtgevende Partnerorganisatie],Tabel4[Opdrachtgevende Partnerorganisatie],Tabel5[Opdrachtgevende Partnerorganisatie]),""))))} | F20: =IF(Identificatiegegevens!$B20="","",SUMIF(Tabel2[Partnerorganisatie],Identificatiegegevens!$B20,Tabel2[Totaal personeelskost])) | G20: =IF(Identificatiegegevens!$B20="","",Identificatiegegevens!$F20*0.15) | H20: =IF(Identificatiegegevens!$B20="","",IF(OR(Identificatiegegevens!$D20="promotor",Identificatiegegevens!$D20="partner"),SUMIF(Tabel3[Opdrachtgevende Partnerorganisatie],Identificatiegegevens!$B20,Tabel3[Totaal]),SUMIF(Tabel3[Naam leverancier of onderaannemer],Identificatiegegevens!$B20,Tabel3[Totaal]))) | I20: =IF(Identificatiegegevens!$B20="","",IF(OR(Identificatiegegevens!$D20="promotor",Identificatiegegevens!$D20="partner"),SUMIF(Tabel4[Opdrachtgevende Partnerorganisatie],Identificatiegegevens!$B20,Tabel4[Totaal]),SUMIF(Tabel4[Naam leverancier of onderaannemer],Identificatiegegevens!$B20,Tabel4[Totaal]))) | J20: =IF(Identificatiegegevens!$B20="","",IF(OR(Identificatiegegevens!$D20="promotor",Identificatiegegevens!$D20="partner"),SUMIF(Tabel5[Opdrachtgevende Partnerorganisatie],Identificatiegegevens!$B20,Tabel5[Totaal]),SUMIF(Tabel5[Naam leverancier of onderaannemer],Identificatiegegevens!$B20,Tabel5[Totaal]))) | K20: =IF(Identificatiegegevens!$B20="","",-SUMIF(Tabel6[Partnerorganisatie],Identificatiegegevens!$B20,Tabel6[Bedrag])) | L20: =IF(Identificatiegegevens!$B20="","",SUM(Identificatiegegevens!$F20:$K20)) | M20: =IF(Identificatiegegevens!$B20="","",SUMIF(Tabel2[Partnerorganisatie],Identificatiegegevens!$B20,Tabel2[Aanvaarde kost])) | N20: =IF(Identificatiegegevens!$B20="","",Identificatiegegevens!$M20*0.15) | O20: =IF(Identificatiegegevens!$B20="","",IF(OR(Identificatiegegevens!$D20="promotor",Identificatiegegevens!$D20="partner"),SUMIF(Tabel3[Opdrachtgevende Partnerorganisatie],Identificatiegegevens!$B20,Tabel3[Aanvaarde kost]),SUMIF(Tabel3[Naam leverancier of onderaannemer],Identificatiegegevens!$B20,Tabel3[Aanvaarde kost]))) | P20: =IF(Identificatiegegevens!$B20="","",IF(OR(Identificatiegegevens!$D20="promotor",Identificatiegegevens!$D20="partner"),SUMIF(Tabel4[Opdrachtgevende Partnerorganisatie],Identificatiegegevens!$B20,Tabel4[Aanvaarde kost]),SUMIF(Tabel4[Naam leverancier of onderaannemer],Identificatiegegevens!$B20,Tabel4[Aanvaarde kost]))) | Q20: =IF(Identificatiegegevens!$B20="","",IF(OR(Identificatiegegevens!$D20="promotor",Identificatiegegevens!$D20="partner"),SUMIF(Tabel5[Opdrachtgevende Partnerorganisatie],Identificatiegegevens!$B20,Tabel5[Aanvaarde kost]),SUMIF(Tabel5[Naam leverancier of onderaannemer],Identificatiegegevens!$B20,Tabel5[Aanvaarde kost]))) | R20: =IF(Identificatiegegevens!$B20="","",-SUMIF(Tabel6[Partnerorganisatie],Identificatiegegevens!$B20,Tabel6[Aanvaarde ontvangsten])) | S20: =IF(Identificatiegegevens!$B20="","",SUM(Identificatiegegevens!$M20:$R20))
A21: Organisatie 8 | E21: {=IF(ISBLANK(Identificatiegegevens!$B21),"",_xlfn.TEXTJOIN("; ",TRUE,_xlfn.UNIQUE(IF(_xlfn.VSTACK(Tabel3[Naam leverancier of onderaannemer],Tabel4[Naam leverancier of onderaannemer],Tabel5[Naam leverancier of onderaannemer])=Identificatiegegevens!$B21,_xlfn.VSTACK(Tabel3[Opdrachtgevende Partnerorganisatie],Tabel4[Opdrachtgevende Partnerorganisatie],Tabel5[Opdrachtgevende Partnerorganisatie]),""))))} | F21: =IF(Identificatiegegevens!$B21="","",SUMIF(Tabel2[Partnerorganisatie],Identificatiegegevens!$B21,Tabel2[Totaal personeelskost])) | G21: =IF(Identificatiegegevens!$B21="","",Identificatiegegevens!$F21*0.15) | H21: =IF(Identificatiegegevens!$B21="","",IF(OR(Identificatiegegevens!$D21="promotor",Identificatiegegevens!$D21="partner"),SUMIF(Tabel3[Opdrachtgevende Partnerorganisatie],Identificatiegegevens!$B21,Tabel3[Totaal]),SUMIF(Tabel3[Naam leverancier of onderaannemer],Identificatiegegevens!$B21,Tabel3[Totaal]))) | I21: =IF(Identificatiegegevens!$B21="","",IF(OR(Identificatiegegevens!$D21="promotor",Identificatiegegevens!$D21="partner"),SUMIF(Tabel4[Opdrachtgevende Partnerorganisatie],Identificatiegegevens!$B21,Tabel4[Totaal]),SUMIF(Tabel4[Naam leverancier of onderaannemer],Identificatiegegevens!$B21,Tabel4[Totaal]))) | J21: =IF(Identificatiegegevens!$B21="","",IF(OR(Identificatiegegevens!$D21="promotor",Identificatiegegevens!$D21="partner"),SUMIF(Tabel5[Opdrachtgevende Partnerorganisatie],Identificatiegegevens!$B21,Tabel5[Totaal]),SUMIF(Tabel5[Naam leverancier of onderaannemer],Identificatiegegevens!$B21,Tabel5[Totaal]))) | K21: =IF(Identificatiegegevens!$B21="","",-SUMIF(Tabel6[Partnerorganisatie],Identificatiegegevens!$B21,Tabel6[Bedrag])) | L21: =IF(Identificatiegegevens!$B21="","",SUM(Identificatiegegevens!$F21:$K21)) | M21: =IF(Identificatiegegevens!$B21="","",SUMIF(Tabel2[Partnerorganisatie],Identificatiegegevens!$B21,Tabel2[Aanvaarde kost])) | N21: =IF(Identificatiegegevens!$B21="","",Identificatiegegevens!$M21*0.15) | O21: =IF(Identificatiegegevens!$B21="","",IF(OR(Identificatiegegevens!$D21="promotor",Identificatiegegevens!$D21="partner"),SUMIF(Tabel3[Opdrachtgevende Partnerorganisatie],Identificatiegegevens!$B21,Tabel3[Aanvaarde kost]),SUMIF(Tabel3[Naam leverancier of onderaannemer],Identificatiegegevens!$B21,Tabel3[Aanvaarde kost]))) | P21: =IF(Identificatiegegevens!$B21="","",IF(OR(Identificatiegegevens!$D21="promotor",Identificatiegegevens!$D21="partner"),SUMIF(Tabel4[Opdrachtgevende Partnerorganisatie],Identificatiegegevens!$B21,Tabel4[Aanvaarde kost]),SUMIF(Tabel4[Naam leverancier of onderaannemer],Identificatiegegevens!$B21,Tabel4[Aanvaarde kost]))) | Q21: =IF(Identificatiegegevens!$B21="","",IF(OR(Identificatiegegevens!$D21="promotor",Identificatiegegevens!$D21="partner"),SUMIF(Tabel5[Opdrachtgevende Partnerorganisatie],Identificatiegegevens!$B21,Tabel5[Aanvaarde kost]),SUMIF(Tabel5[Naam leverancier of onderaannemer],Identificatiegegevens!$B21,Tabel5[Aanvaarde kost]))) | R21: =IF(Identificatiegegevens!$B21="","",-SUMIF(Tabel6[Partnerorganisatie],Identificatiegegevens!$B21,Tabel6[Aanvaarde ontvangsten])) | S21: =IF(Identificatiegegevens!$B21="","",SUM(Identificatiegegevens!$M21:$R21))
A22: Organisatie 9 | E22: {=IF(ISBLANK(Identificatiegegevens!$B22),"",_xlfn.TEXTJOIN("; ",TRUE,_xlfn.UNIQUE(IF(_xlfn.VSTACK(Tabel3[Naam leverancier of onderaannemer],Tabel4[Naam leverancier of onderaannemer],Tabel5[Naam leverancier of onderaannemer])=Identificatiegegevens!$B22,_xlfn.VSTACK(Tabel3[Opdrachtgevende Partnerorganisatie],Tabel4[Opdrachtgevende Partnerorganisatie],Tabel5[Opdrachtgevende Partnerorganisatie]),""))))} | F22: =IF(Identificatiegegevens!$B22="","",SUMIF(Tabel2[Partnerorganisatie],Identificatiegegevens!$B22,Tabel2[Totaal personeelskost])) | G22: =IF(Identificatiegegevens!$B22="","",Identificatiegegevens!$F22*0.15) | H22: =IF(Identificatiegegevens!$B22="","",IF(OR(Identificatiegegevens!$D22="promotor",Identificatiegegevens!$D22="partner"),SUMIF(Tabel3[Opdrachtgevende Partnerorganisatie],Identificatiegegevens!$B22,Tabel3[Totaal]),SUMIF(Tabel3[Naam leverancier of onderaannemer],Identificatiegegevens!$B22,Tabel3[Totaal]))) | I22: =IF(Identificatiegegevens!$B22="","",IF(OR(Identificatiegegevens!$D22="promotor",Identificatiegegevens!$D22="partner"),SUMIF(Tabel4[Opdrachtgevende Partnerorganisatie],Identificatiegegevens!$B22,Tabel4[Totaal]),SUMIF(Tabel4[Naam leverancier of onderaannemer],Identificatiegegevens!$B22,Tabel4[Totaal]))) | J22: =IF(Identificatiegegevens!$B22="","",IF(OR(Identificatiegegevens!$D22="promotor",Identificatiegegevens!$D22="partner"),SUMIF(Tabel5[Opdrachtgevende Partnerorganisatie],Identificatiegegevens!$B22,Tabel5[Totaal]),SUMIF(Tabel5[Naam leverancier of onderaannemer],Identificatiegegevens!$B22,Tabel5[Totaal]))) | K22: =IF(Identificatiegegevens!$B22="","",-SUMIF(Tabel6[Partnerorganisatie],Identificatiegegevens!$B22,Tabel6[Bedrag])) | L22: =IF(Identificatiegegevens!$B22="","",SUM(Identificatiegegevens!$F22:$K22)) | M22: =IF(Identificatiegegevens!$B22="","",SUMIF(Tabel2[Partnerorganisatie],Identificatiegegevens!$B22,Tabel2[Aanvaarde kost])) | N22: =IF(Identificatiegegevens!$B22="","",Identificatiegegevens!$M22*0.15) | O22: =IF(Identificatiegegevens!$B22="","",IF(OR(Identificatiegegevens!$D22="promotor",Identificatiegegevens!$D22="partner"),SUMIF(Tabel3[Opdrachtgevende Partnerorganisatie],Identificatiegegevens!$B22,Tabel3[Aanvaarde kost]),SUMIF(Tabel3[Naam leverancier of onderaannemer],Identificatiegegevens!$B22,Tabel3[Aanvaarde kost]))) | P22: =IF(Identificatiegegevens!$B22="","",IF(OR(Identificatiegegevens!$D22="promotor",Identificatiegegevens!$D22="partner"),SUMIF(Tabel4[Opdrachtgevende Partnerorganisatie],Identificatiegegevens!$B22,Tabel4[Aanvaarde kost]),SUMIF(Tabel4[Naam leverancier of onderaannemer],Identificatiegegevens!$B22,Tabel4[Aanvaarde kost]))) | Q22: =IF(Identificatiegegevens!$B22="","",IF(OR(Identificatiegegevens!$D22="promotor",Identificatiegegevens!$D22="partner"),SUMIF(Tabel5[Opdrachtgevende Partnerorganisatie],Identificatiegegevens!$B22,Tabel5[Aanvaarde kost]),SUMIF(Tabel5[Naam leverancier of onderaannemer],Identificatiegegevens!$B22,Tabel5[Aanvaarde kost]))) | R22: =IF(Identificatiegegevens!$B22="","",-SUMIF(Tabel6[Partnerorganisatie],Identificatiegegevens!$B22,Tabel6[Aanvaarde ontvangsten])) | S22: =IF(Identificatiegegevens!$B22="","",SUM(Identificatiegegevens!$M22:$R22))
A23: Organisatie 10 | E23: {=IF(ISBLANK(Identificatiegegevens!$B23),"",_xlfn.TEXTJOIN("; ",TRUE,_xlfn.UNIQUE(IF(_xlfn.VSTACK(Tabel3[Naam leverancier of onderaannemer],Tabel4[Naam leverancier of onderaannemer],Tabel5[Naam leverancier of onderaannemer])=Identificatiegegevens!$B23,_xlfn.VSTACK(Tabel3[Opdrachtgevende Partnerorganisatie],Tabel4[Opdrachtgevende Partnerorganisatie],Tabel5[Opdrachtgevende Partnerorganisatie]),""))))} | F23: =IF(Identificatiegegevens!$B23="","",SUMIF(Tabel2[Partnerorganisatie],Identificatiegegevens!$B23,Tabel2[Totaal personeelskost])) | G23: =IF(Identificatiegegevens!$B23="","",Identificatiegegevens!$F23*0.15) | H23: =IF(Identificatiegegevens!$B23="","",IF(OR(Identificatiegegevens!$D23="promotor",Identificatiegegevens!$D23="partner"),SUMIF(Tabel3[Opdrachtgevende Partnerorganisatie],Identificatiegegevens!$B23,Tabel3[Totaal]),SUMIF(Tabel3[Naam leverancier of onderaannemer],Identificatiegegevens!$B23,Tabel3[Totaal]))) | I23: =IF(Identificatiegegevens!$B23="","",IF(OR(Identificatiegegevens!$D23="promotor",Identificatiegegevens!$D23="partner"),SUMIF(Tabel4[Opdrachtgevende Partnerorganisatie],Identificatiegegevens!$B23,Tabel4[Totaal]),SUMIF(Tabel4[Naam leverancier of onderaannemer],Identificatiegegevens!$B23,Tabel4[Totaal]))) | J23: =IF(Identificatiegegevens!$B23="","",IF(OR(Identificatiegegevens!$D23="promotor",Identificatiegegevens!$D23="partner"),SUMIF(Tabel5[Opdrachtgevende Partnerorganisatie],Identificatiegegevens!$B23,Tabel5[Totaal]),SUMIF(Tabel5[Naam leverancier of onderaannemer],Identificatiegegevens!$B23,Tabel5[Totaal]))) | K23: =IF(Identificatiegegevens!$B23="","",-SUMIF(Tabel6[Partnerorganisatie],Identificatiegegevens!$B23,Tabel6[Bedrag])) | L23: =IF(Identificatiegegevens!$B23="","",SUM(Identificatiegegevens!$F23:$K23)) | M23: =IF(Identificatiegegevens!$B23="","",SUMIF(Tabel2[Partnerorganisatie],Identificatiegegevens!$B23,Tabel2[Aanvaarde kost])) | N23: =IF(Identificatiegegevens!$B23="","",Identificatiegegevens!$M23*0.15) | O23: =IF(Identificatiegegevens!$B23="","",IF(OR(Identificatiegegevens!$D23="promotor",Identificatiegegevens!$D23="partner"),SUMIF(Tabel3[Opdrachtgevende Partnerorganisatie],Identificatiegegevens!$B23,Tabel3[Aanvaarde kost]),SUMIF(Tabel3[Naam leverancier of onderaannemer],Identificatiegegevens!$B23,Tabel3[Aanvaarde kost]))) | P23: =IF(Identificatiegegevens!$B23="","",IF(OR(Identificatiegegevens!$D23="promotor",Identificatiegegevens!$D23="partner"),SUMIF(Tabel4[Opdrachtgevende Partnerorganisatie],Identificatiegegevens!$B23,Tabel4[Aanvaarde kost]),SUMIF(Tabel4[Naam leverancier of onderaannemer],Identificatiegegevens!$B23,Tabel4[Aanvaarde kost]))) | Q23: =IF(Identificatiegegevens!$B23="","",IF(OR(Identificatiegegevens!$D23="promotor",Identificatiegegevens!$D23="partner"),SUMIF(Tabel5[Opdrachtgevende Partnerorganisatie],Identificatiegegevens!$B23,Tabel5[Aanvaarde kost]),SUMIF(Tabel5[Naam leverancier of onderaannemer],Identificatiegegevens!$B23,Tabel5[Aanvaarde kost]))) | R23: =IF(Identificatiegegevens!$B23="","",-SUMIF(Tabel6[Partnerorganisatie],Identificatiegegevens!$B23,Tabel6[Aanvaarde ontvangsten])) | S23: =IF(Identificatiegegevens!$B23="","",SUM(Identificatiegegevens!$M23:$R23))
A24: Organisatie 11 | E24: {=IF(ISBLANK(Identificatiegegevens!$B24),"",_xlfn.TEXTJOIN("; ",TRUE,_xlfn.UNIQUE(IF(_xlfn.VSTACK(Tabel3[Naam leverancier of onderaannemer],Tabel4[Naam leverancier of onderaannemer],Tabel5[Naam leverancier of onderaannemer])=Identificatiegegevens!$B24,_xlfn.VSTACK(Tabel3[Opdrachtgevende Partnerorganisatie],Tabel4[Opdrachtgevende Partnerorganisatie],Tabel5[Opdrachtgevende Partnerorganisatie]),""))))} | F24: =IF(Identificatiegegevens!$B24="","",SUMIF(Tabel2[Partnerorganisatie],Identificatiegegevens!$B24,Tabel2[Totaal personeelskost])) | G24: =IF(Identificatiegegevens!$B24="","",Identificatiegegevens!$F24*0.15) | H24: =IF(Identificatiegegevens!$B24="","",IF(OR(Identificatiegegevens!$D24="promotor",Identificatiegegevens!$D24="partner"),SUMIF(Tabel3[Opdrachtgevende Partnerorganisatie],Identificatiegegevens!$B24,Tabel3[Totaal]),SUMIF(Tabel3[Naam leverancier of onderaannemer],Identificatiegegevens!$B24,Tabel3[Totaal]))) | I24: =IF(Identificatiegegevens!$B24="","",IF(OR(Identificatiegegevens!$D24="promotor",Identificatiegegevens!$D24="partner"),SUMIF(Tabel4[Opdrachtgevende Partnerorganisatie],Identificatiegegevens!$B24,Tabel4[Totaal]),SUMIF(Tabel4[Naam leverancier of onderaannemer],Identificatiegegevens!$B24,Tabel4[Totaal]))) | J24: =IF(Identificatiegegevens!$B24="","",IF(OR(Identificatiegegevens!$D24="promotor",Identificatiegegevens!$D24="partner"),SUMIF(Tabel5[Opdrachtgevende Partnerorganisatie],Identificatiegegevens!$B24,Tabel5[Totaal]),SUMIF(Tabel5[Naam leverancier of onderaannemer],Identificatiegegevens!$B24,Tabel5[Totaal]))) | K24: =IF(Identificatiegegevens!$B24="","",-SUMIF(Tabel6[Partnerorganisatie],Identificatiegegevens!$B24,Tabel6[Bedrag])) | L24: =IF(Identificatiegegevens!$B24="","",SUM(Identificatiegegevens!$F24:$K24)) | M24: =IF(Identificatiegegevens!$B24="","",SUMIF(Tabel2[Partnerorganisatie],Identificatiegegevens!$B24,Tabel2[Aanvaarde kost])) | N24: =IF(Identificatiegegevens!$B24="","",Identificatiegegevens!$M24*0.15) | O24: =IF(Identificatiegegevens!$B24="","",IF(OR(Identificatiegegevens!$D24="promotor",Identificatiegegevens!$D24="partner"),SUMIF(Tabel3[Opdrachtgevende Partnerorganisatie],Identificatiegegevens!$B24,Tabel3[Aanvaarde kost]),SUMIF(Tabel3[Naam leverancier of onderaannemer],Identificatiegegevens!$B24,Tabel3[Aanvaarde kost]))) | P24: =IF(Identificatiegegevens!$B24="","",IF(OR(Identificatiegegevens!$D24="promotor",Identificatiegegevens!$D24="partner"),SUMIF(Tabel4[Opdrachtgevende Partnerorganisatie],Identificatiegegevens!$B24,Tabel4[Aanvaarde kost]),SUMIF(Tabel4[Naam leverancier of onderaannemer],Identificatiegegevens!$B24,Tabel4[Aanvaarde kost]))) | Q24: =IF(Identificatiegegevens!$B24="","",IF(OR(Identificatiegegevens!$D24="promotor",Identificatiegegevens!$D24="partner"),SUMIF(Tabel5[Opdrachtgevende Partnerorganisatie],Identificatiegegevens!$B24,Tabel5[Aanvaarde kost]),SUMIF(Tabel5[Naam leverancier of onderaannemer],Identificatiegegevens!$B24,Tabel5[Aanvaarde kost]))) | R24: =IF(Identificatiegegevens!$B24="","",-SUMIF(Tabel6[Partnerorganisatie],Identificatiegegevens!$B24,Tabel6[Aanvaarde ontvangsten])) | S24: =IF(Identificatiegegevens!$B24="","",SUM(Identificatiegegevens!$M24:$R24))
A25: Organisatie 12 | E25: {=IF(ISBLANK(Identificatiegegevens!$B25),"",_xlfn.TEXTJOIN("; ",TRUE,_xlfn.UNIQUE(IF(_xlfn.VSTACK(Tabel3[Naam leverancier of onderaannemer],Tabel4[Naam leverancier of onderaannemer],Tabel5[Naam leverancier of onderaannemer])=Identificatiegegevens!$B25,_xlfn.VSTACK(Tabel3[Opdrachtgevende Partnerorganisatie],Tabel4[Opdrachtgevende Partnerorganisatie],Tabel5[Opdrachtgevende Partnerorganisatie]),""))))} | F25: =IF(Identificatiegegevens!$B25="","",SUMIF(Tabel2[Partnerorganisatie],Identificatiegegevens!$B25,Tabel2[Totaal personeelskost])) | G25: =IF(Identificatiegegevens!$B25="","",Identificatiegegevens!$F25*0.15) | H25: =IF(Identificatiegegevens!$B25="","",IF(OR(Identificatiegegevens!$D25="promotor",Identificatiegegevens!$D25="partner"),SUMIF(Tabel3[Opdrachtgevende Partnerorganisatie],Identificatiegegevens!$B25,Tabel3[Totaal]),SUMIF(Tabel3[Naam leverancier of onderaannemer],Identificatiegegevens!$B25,Tabel3[Totaal]))) | I25: =IF(Identificatiegegevens!$B25="","",IF(OR(Identificatiegegevens!$D25="promotor",Identificatiegegevens!$D25="partner"),SUMIF(Tabel4[Opdrachtgevende Partnerorganisatie],Identificatiegegevens!$B25,Tabel4[Totaal]),SUMIF(Tabel4[Naam leverancier of onderaannemer],Identificatiegegevens!$B25,Tabel4[Totaal]))) | J25: =IF(Identificatiegegevens!$B25="","",IF(OR(Identificatiegegevens!$D25="promotor",Identificatiegegevens!$D25="partner"),SUMIF(Tabel5[Opdrachtgevende Partnerorganisatie],Identificatiegegevens!$B25,Tabel5[Totaal]),SUMIF(Tabel5[Naam leverancier of onderaannemer],Identificatiegegevens!$B25,Tabel5[Totaal]))) | K25: =IF(Identificatiegegevens!$B25="","",-SUMIF(Tabel6[Partnerorganisatie],Identificatiegegevens!$B25,Tabel6[Bedrag])) | L25: =IF(Identificatiegegevens!$B25="","",SUM(Identificatiegegevens!$F25:$K25)) | M25: =IF(Identificatiegegevens!$B25="","",SUMIF(Tabel2[Partnerorganisatie],Identificatiegegevens!$B25,Tabel2[Aanvaarde kost])) | N25: =IF(Identificatiegegevens!$B25="","",Identificatiegegevens!$M25*0.15) | O25: =IF(Identificatiegegevens!$B25="","",IF(OR(Identificatiegegevens!$D25="promotor",Identificatiegegevens!$D25="partner"),SUMIF(Tabel3[Opdrachtgevende Partnerorganisatie],Identificatiegegevens!$B25,Tabel3[Aanvaarde kost]),SUMIF(Tabel3[Naam leverancier of onderaannemer],Identificatiegegevens!$B25,Tabel3[Aanvaarde kost]))) | P25: =IF(Identificatiegegevens!$B25="","",IF(OR(Identificatiegegevens!$D25="promotor",Identificatiegegevens!$D25="partner"),SUMIF(Tabel4[Opdrachtgevende Partnerorganisatie],Identificatiegegevens!$B25,Tabel4[Aanvaarde kost]),SUMIF(Tabel4[Naam leverancier of onderaannemer],Identificatiegegevens!$B25,Tabel4[Aanvaarde kost]))) | Q25: =IF(Identificatiegegevens!$B25="","",IF(OR(Identificatiegegevens!$D25="promotor",Identificatiegegevens!$D25="partner"),SUMIF(Tabel5[Opdrachtgevende Partnerorganisatie],Identificatiegegevens!$B25,Tabel5[Aanvaarde kost]),SUMIF(Tabel5[Naam leverancier of onderaannemer],Identificatiegegevens!$B25,Tabel5[Aanvaarde kost]))) | R25: =IF(Identificatiegegevens!$B25="","",-SUMIF(Tabel6[Partnerorganisatie],Identificatiegegevens!$B25,Tabel6[Aanvaarde ontvangsten])) | S25: =IF(Identificatiegegevens!$B25="","",SUM(Identificatiegegevens!$M25:$R25))
... A143: Organisatie 130 | E143: {=IF(ISBLANK(Identificatiegegevens!$B143),"",_xlfn.TEXTJOIN("; ",TRUE,_xlfn.UNIQUE(IF(_xlfn.VSTACK(Tabel3[Naam leverancier of onderaannemer],Tabel4[Naam leverancier of onderaannemer],Tabel5[Naam leverancier of onderaannemer])=Identificatiegegevens!$B143,_xlfn.VSTACK(Tabel3[Opdrachtgevende Partnerorganisatie],Tabel4[Opdrachtgevende Partnerorganisatie],Tabel5[Opdrachtgevende Partnerorganisatie]),""))))} | F143: =IF(Identificatiegegevens!$B143="","",SUMIF(Tabel2[Partnerorganisatie],Identificatiegegevens!$B143,Tabel2[Totaal personeelskost])) | G143: =IF(Identificatiegegevens!$B143="","",Identificatiegegevens!$F143*0.15) | H143: =IF(Identificatiegegevens!$B143="","",IF(OR(Identificatiegegevens!$D143="promotor",Identificatiegegevens!$D143="partner"),SUMIF(Tabel3[Opdrachtgevende Partnerorganisatie],Identificatiegegevens!$B143,Tabel3[Totaal]),SUMIF(Tabel3[Naam leverancier of onderaannemer],Identificatiegegevens!$B143,Tabel3[Totaal]))) | I143: =IF(Identificatiegegevens!$B143="","",IF(OR(Identificatiegegevens!$D143="promotor",Identificatiegegevens!$D143="partner"),SUMIF(Tabel4[Opdrachtgevende Partnerorganisatie],Identificatiegegevens!$B143,Tabel4[Totaal]),SUMIF(Tabel4[Naam leverancier of onderaannemer],Identificatiegegevens!$B143,Tabel4[Totaal]))) | J143: =IF(Identificatiegegevens!$B143="","",IF(OR(Identificatiegegevens!$D143="promotor",Identificatiegegevens!$D143="partner"),SUMIF(Tabel5[Opdrachtgevende Partnerorganisatie],Identificatiegegevens!$B143,Tabel5[Totaal]),SUMIF(Tabel5[Naam leverancier of onderaannemer],Identificatiegegevens!$B143,Tabel5[Totaal]))) | K143: =IF(Identificatiegegevens!$B143="","",-SUMIF(Tabel6[Partnerorganisatie],Identificatiegegevens!$B143,Tabel6[Bedrag])) | L143: =IF(Identificatiegegevens!$B143="","",SUM(Identificatiegegevens!$F143:$K143)) | M143: =IF(Identificatiegegevens!$B143="","",SUMIF(Tabel2[Partnerorganisatie],Identificatiegegevens!$B143,Tabel2[Aanvaarde kost])) | N143: =IF(Identificatiegegevens!$B143="","",Identificatiegegevens!$M143*0.15) | O143: =IF(Identificatiegegevens!$B143="","",IF(OR(Identificatiegegevens!$D143="promotor",Identificatiegegevens!$D143="partner"),SUMIF(Tabel3[Opdrachtgevende Partnerorganisatie],Identificatiegegevens!$B143,Tabel3[Aanvaarde kost]),SUMIF(Tabel3[Naam leverancier of onderaannemer],Identificatiegegevens!$B143,Tabel3[Aanvaarde kost]))) | P143: =IF(Identificatiegegevens!$B143="","",IF(OR(Identificatiegegevens!$D143="promotor",Identificatiegegevens!$D143="partner"),SUMIF(Tabel4[Opdrachtgevende Partnerorganisatie],Identificatiegegevens!$B143,Tabel4[Aanvaarde kost]),SUMIF(Tabel4[Naam leverancier of onderaannemer],Identificatiegegevens!$B143,Tabel4[Aanvaarde kost]))) | Q143: =IF(Identificatiegegevens!$B143="","",IF(OR(Identificatiegegevens!$D143="promotor",Identificatiegegevens!$D143="partner"),SUMIF(Tabel5[Opdrachtgevende Partnerorganisatie],Identificatiegegevens!$B143,Tabel5[Aanvaarde kost]),SUMIF(Tabel5[Naam leverancier of onderaannemer],Identificatiegegevens!$B143,Tabel5[Aanvaarde kost]))) | R143: =IF(Identificatiegegevens!$B143="","",-SUMIF(Tabel6[Partnerorganisatie],Identificatiegegevens!$B143,Tabel6[Aanvaarde ontvangsten])) | S143: =IF(Identificatiegegevens!$B143="","",SUM(Identificatiegegevens!$M143:$R143))

Sheet Loonkosten
A4: LOONKOSTEN
A5: (1) Duid het projectjaar (2024 of 2025) aan. Indien een persoon over meerdere jaren betrokken was op het project, vult u per jaar een afzonderlijke lijn in. (2) Vermeld het maximaal aantal uren die op jaarbasis ingediend kunnen worden. Voor het aantal gepresteerde uren op jaarbasis wordt uitgegaan van 1.596 uur. Indien dit aantal in werkelijkheid hoger ligt, vult u het juiste aantal in, en dient u de aanpassing toe te lichen in de kolom 'Ev.extra toelichting'. Voor een gerealiseerd voltijds equivalent kan op jaarbasis maximaal 1.720 uur ingebracht worden. Enkel de uren besteed aan de inhoudelijke projectwerking kunnen worden ingebracht. (3) De loonkosten worden berekend op basis van een standaard uurtarief (SUT) dat vermenigvuldigd wordt met de aan het project bestede tijd. Het SUT wordt forfaitair bepaald als de vermenigvuldiging van het vaste bruto maandsalaris (daarbij uitgaande van een voltijdse betrekking) van het betrokken personeelslid met de coëfficiënt 1,2%. Uitgangspunt voor de berekening van het standaarduurtarief is het vaste bruto maandsalaris (zonder toeslagen, premies,...). Het brutoloon dat als basis geldt, is het brutoloon van de maand januari voorafgaand aan de indiening van het project of, indien de medewerker nog niet in dienst was, het bruto maandloon van de eerste volledige maand van tewerkstelling. Enkel het bruto maandloon geldt als basis zonder toevoeging van andere voordelen. Andere kosten kunnen niet meegenomen worden voor de berekening van het standaarduurtarief. Voor projecten die zich uitspreiden over meerdere projectjaren, kan een jaarlijkse indexatie van 2% worden toegepast (= brutoloon * 1,02). (4) Vul hier de tewerkstelling volgens arbeidsovereenkomst in. Bijvoorbeeld, voltijds = 100%, 4/5e = 80%, ... (5) Duid aan wat van toepassing is: toewijzing of uurregistratie. Indien "nee", ga naar kolom O voor de uurregistratie. U kan slechts één systeem toepassen voor een medewerker voor een bepaalde periode. Als er voor een bepaalde medewerker voor een bepaalde periode een toewijzing wordt aangeduid, kan er ook in die periode voor die medewerker in dat project geen individuele tijdsregistratie meer ingebracht worden. Het is ofwel toewijzing ofwel individuele tijdsregistraties. Enkel indien de periode van toewijzing afgelopen is, kan er eventueel terug overgeschakeld worden naar individuele tijdsregistratie. De toewijzing dient in een onderlinge overeenkomst tussen werkgever en werknemer bevestigd te worden. De tijdsregistratie wordt bijgehouden in een (6) Het toewijzingspercentage geeft de mate van tijdsinzet weer dat een persoon op het project zal spenderen. Vul het percentage in verhouding van de effectieve werktijd in. Bijvoorbeeld, een persoon met een voltijds contract die 1 dag per week op het project werkt, heeft een toewijzingspercentage van 20%. Een persoon met een 4/5e contract die 1 dag per week op het project werkt, heeft een toewijzingspercentage van 25%. (7) Indien een persoon over meerdere jaren betrokken is op het project, vult u per jaar een afzonderlijke lijn in. (8) Indien u kiest voor uurregistratie, vul hier de geraamde effectief te presteren uren in voor het betrokken projectjaar.
L7: Toewijzing | P7: Uurregistratie | S7: =IF(S210="","",S210) | U7: =IF(COUNT(U9:U208)=0,"",SUM(U9:U208))
A8: Bewijsstuknummer | B8: Naam werknemer | C8: Rijksregisternummer werknemer | D8: Omschrijving uit de begroting | E8: Partnerorganisatie | F8: Doelstelling | G8: Projectjaar (1) | H8: Aantal gepresteerde uren jaarbasis (2) | I8: Brutoloon (3) | J8: Tewerkstellingsbreuk arbeidsovereenkomst (%) (4) | K8: Standaard uurtarief SUT | L8: Toewijzing (ja/nee) (5) | M8: Toewijzings-percentage (%) (6) | N8: Startdatum toewijzing (dd/mm/jjjj) (7) | O8: Einddatum toewijzing (dd/mm/jjjj) | P8: Uren op toewijzing | Q8: Uren op tijdsregistratie (8) | R8: Totaal uren | S8: Totaal personeelskost | T8: Extra toelichting | U8: Aanvaarde kost | V8: Toelichting aanvaarding of weigering | X8: Projectjaar (1) | Y8: Aantal gepresteerde uren jaarbasis (2) | Z8: Brutoloon (3) | AA8: Tewerkstellingsbreuk arbeidsovereenkomst (%) (4) | AB8: Standaard uurtarief SUT | AC8: Toewijzing (ja/nee) (5) | AD8: Toewijzings-percentage (%) (6) | AE8: Startdatum toewijzing (dd/mm/jjjj) (7) | AF8: Einddatum toewijzing (dd/mm/jjjj) | AG8: Uren op toewijzing | AH8: Uren op tijdsregistratie (8) | AI8: Totaal uren | AJ8: Totaal personeelskost
A9: L1 | K9: =IF(I9="","",IFERROR(I9*1.2%,0)) | P9: =IF(AND(L9="",J9="",M9="",N9="",O9="",H9=""),"",IF(OR(L9="nee",J9="",M9="",N9="",O9=""),0,((DATEDIF(N9,O9+1,"m")*H9/12+DATEDIF(N9,O9+1,"md")*H9/365)*J9*M9))) | R9: =IF(AND(P9="",Q9=""),"",P9+Q9) | S9: =IF(OR(K9="",R9=""),"",ROUND(K9*R9,2)) | AG9: =IF(AND(AC9="",AA9="",AD9="",AE9="",AF9="",Y9=""),"",IF(OR(AC9="nee",AA9="",AD9="",AE9="",AF9=""),0,((DATEDIF(AE9,AF9+1,"m")*Y9/12+DATEDIF(AE9,AF9+1,"md")*Y9/365)*AA9*AD9))) | AI9: =IF(AND(AG9="",AH9=""),"",AG9+AH9) | AJ9: =IF(OR(AB9="",AI9=""),"",AB9*AI9)
A10: L2 | K10: =IF(I10="","",IFERROR(I10*1.2%,0)) | P10: =IF(AND(L10="",J10="",M10="",N10="",O10="",H10=""),"",IF(OR(L10="nee",J10="",M10="",N10="",O10=""),0,((DATEDIF(N10,O10+1,"m")*H10/12+DATEDIF(N10,O10+1,"md")*H10/365)*J10*M10))) | R10: =IF(AND(P10="",Q10=""),"",P10+Q10) | S10: =IF(OR(K10="",R10=""),"",ROUND(K10*R10,2)) | AB10: =IF(Z10="","",IFERROR(Z10*1.2%,0)) | AG10: =IF(AND(AC10="",AA10="",AD10="",AE10="",AF10="",Y10=""),"",IF(OR(AC10="nee",AA10="",AD10="",AE10="",AF10=""),0,((DATEDIF(AE10,AF10+1,"m")*Y10/12+DATEDIF(AE10,AF10+1,"md")*Y10/365)*AA10*AD10))) | AI10: =IF(AND(AG10="",AH10=""),"",AG10+AH10) | AJ10: =IF(OR(AB10="",AI10=""),"",AB10*AI10)
A11: L3 | K11: =IF(I11="","",IFERROR(I11*1.2%,0)) | P11: =IF(AND(L11="",J11="",M11="",N11="",O11="",H11=""),"",IF(OR(L11="nee",J11="",M11="",N11="",O11=""),0,((DATEDIF(N11,O11+1,"m")*H11/12+DATEDIF(N11,O11+1,"md")*H11/365)*J11*M11))) | R11: =IF(AND(P11="",Q11=""),"",P11+Q11) | S11: =IF(OR(K11="",R11=""),"",ROUND(K11*R11,2)) | AB11: =IF(Z11="","",IFERROR(Z11*1.2%,0)) | AG11: =IF(AND(AC11="",AA11="",AD11="",AE11="",AF11="",Y11=""),"",IF(OR(AC11="nee",AA11="",AD11="",AE11="",AF11=""),0,((DATEDIF(AE11,AF11+1,"m")*Y11/12+DATEDIF(AE11,AF11+1,"md")*Y11/365)*AA11*AD11))) | AI11: =IF(AND(AG11="",AH11=""),"",AG11+AH11) | AJ11: =IF(OR(AB11="",AI11=""),"",AB11*AI11)
A12: L4 | K12: =IF(I12="","",IFERROR(I12*1.2%,0)) | P12: =IF(AND(L12="",J12="",M12="",N12="",O12="",H12=""),"",IF(OR(L12="nee",J12="",M12="",N12="",O12=""),0,((DATEDIF(N12,O12+1,"m")*H12/12+DATEDIF(N12,O12+1,"md")*H12/365)*J12*M12))) | R12: =IF(AND(P12="",Q12=""),"",P12+Q12) | S12: =IF(OR(K12="",R12=""),"",ROUND(K12*R12,2)) | AB12: =IF(Z12="","",IFERROR(Z12*1.2%,0)) | AG12: =IF(AND(AC12="",AA12="",AD12="",AE12="",AF12="",Y12=""),"",IF(OR(AC12="nee",AA12="",AD12="",AE12="",AF12=""),0,((DATEDIF(AE12,AF12+1,"m")*Y12/12+DATEDIF(AE12,AF12+1,"md")*Y12/365)*AA12*AD12))) | AI12: =IF(AND(AG12="",AH12=""),"",AG12+AH12) | AJ12: =IF(OR(AB12="",AI12=""),"",AB12*AI12)
A13: L5 | K13: =IF(I13="","",IFERROR(I13*1.2%,0)) | P13: =IF(AND(L13="",J13="",M13="",N13="",O13="",H13=""),"",IF(OR(L13="nee",J13="",M13="",N13="",O13=""),0,((DATEDIF(N13,O13+1,"m")*H13/12+DATEDIF(N13,O13+1,"md")*H13/365)*J13*M13))) | R13: =IF(AND(P13="",Q13=""),"",P13+Q13) | S13: =IF(OR(K13="",R13=""),"",ROUND(K13*R13,2)) | AB13: =IF(Z13="","",IFERROR(Z13*1.2%,0)) | AG13: =IF(AND(AC13="",AA13="",AD13="",AE13="",AF13="",Y13=""),"",IF(OR(AC13="nee",AA13="",AD13="",AE13="",AF13=""),0,((DATEDIF(AE13,AF13+1,"m")*Y13/12+DATEDIF(AE13,AF13+1,"md")*Y13/365)*AA13*AD13))) | AI13: =IF(AND(AG13="",AH13=""),"",AG13+AH13) | AJ13: =IF(OR(AB13="",AI13=""),"",AB13*AI13)
A14: L6 | K14: =IF(I14="","",IFERROR(I14*1.2%,0)) | P14: =IF(AND(L14="",J14="",M14="",N14="",O14="",H14=""),"",IF(OR(L14="nee",J14="",M14="",N14="",O14=""),0,((DATEDIF(N14,O14+1,"m")*H14/12+DATEDIF(N14,O14+1,"md")*H14/365)*J14*M14))) | R14: =IF(AND(P14="",Q14=""),"",P14+Q14) | S14: =IF(OR(K14="",R14=""),"",ROUND(K14*R14,2)) | AB14: =IF(Z14="","",IFERROR(Z14*1.2%,0)) | AG14: =IF(AND(AC14="",AA14="",AD14="",AE14="",AF14="",Y14=""),"",IF(OR(AC14="nee",AA14="",AD14="",AE14="",AF14=""),0,((DATEDIF(AE14,AF14+1,"m")*Y14/12+DATEDIF(AE14,AF14+1,"md")*Y14/365)*AA14*AD14))) | AI14: =IF(AND(AG14="",AH14=""),"",AG14+AH14) | AJ14: =IF(OR(AB14="",AI14=""),"",AB14*AI14)
A15: L7 | K15: =IF(I15="","",IFERROR(I15*1.2%,0)) | P15: =IF(AND(L15="",J15="",M15="",N15="",O15="",H15=""),"",IF(OR(L15="nee",J15="",M15="",N15="",O15=""),0,((DATEDIF(N15,O15+1,"m")*H15/12+DATEDIF(N15,O15+1,"md")*H15/365)*J15*M15))) | R15: =IF(AND(P15="",Q15=""),"",P15+Q15) | S15: =IF(OR(K15="",R15=""),"",ROUND(K15*R15,2)) | AB15: =IF(Z15="","",IFERROR(Z15*1.2%,0)) | AG15: =IF(AND(AC15="",AA15="",AD15="",AE15="",AF15="",Y15=""),"",IF(OR(AC15="nee",AA15="",AD15="",AE15="",AF15=""),0,((DATEDIF(AE15,AF15+1,"m")*Y15/12+DATEDIF(AE15,AF15+1,"md")*Y15/365)*AA15*AD15))) | AI15: =IF(AND(AG15="",AH15=""),"",AG15+AH15) | AJ15: =IF(OR(AB15="",AI15=""),"",AB15*AI15)
A16: L8 | K16: =IF(I16="","",IFERROR(I16*1.2%,0)) | P16: =IF(AND(L16="",J16="",M16="",N16="",O16="",H16=""),"",IF(OR(L16="nee",J16="",M16="",N16="",O16=""),0,((DATEDIF(N16,O16+1,"m")*H16/12+DATEDIF(N16,O16+1,"md")*H16/365)*J16*M16))) | R16: =IF(AND(P16="",Q16=""),"",P16+Q16) | S16: =IF(OR(K16="",R16=""),"",ROUND(K16*R16,2)) | AB16: =IF(Z16="","",IFERROR(Z16*1.2%,0)) | AG16: =IF(AND(AC16="",AA16="",AD16="",AE16="",AF16="",Y16=""),"",IF(OR(AC16="nee",AA16="",AD16="",AE16="",AF16=""),0,((DATEDIF(AE16,AF16+1,"m")*Y16/12+DATEDIF(AE16,AF16+1,"md")*Y16/365)*AA16*AD16))) | AI16: =IF(AND(AG16="",AH16=""),"",AG16+AH16) | AJ16: =IF(OR(AB16="",AI16=""),"",AB16*AI16)
A17: L9 | K17: =IF(I17="","",IFERROR(I17*1.2%,0)) | P17: =IF(AND(L17="",J17="",M17="",N17="",O17="",H17=""),"",IF(OR(L17="nee",J17="",M17="",N17="",O17=""),0,((DATEDIF(N17,O17+1,"m")*H17/12+DATEDIF(N17,O17+1,"md")*H17/365)*J17*M17))) | R17: =IF(AND(P17="",Q17=""),"",P17+Q17) | S17: =IF(OR(K17="",R17=""),"",ROUND(K17*R17,2)) | AB17: =IF(Z17="","",IFERROR(Z17*1.2%,0)) | AG17: =IF(AND(AC17="",AA17="",AD17="",AE17="",AF17="",Y17=""),"",IF(OR(AC17="nee",AA17="",AD17="",AE17="",AF17=""),0,((DATEDIF(AE17,AF17+1,"m")*Y17/12+DATEDIF(AE17,AF17+1,"md")*Y17/365)*AA17*AD17))) | AI17: =IF(AND(AG17="",AH17=""),"",AG17+AH17) | AJ17: =IF(OR(AB17="",AI17=""),"",AB17*AI17)
A18: L10 | K18: =IF(I18="","",IFERROR(I18*1.2%,0)) | P18: =IF(AND(L18="",J18="",M18="",N18="",O18="",H18=""),"",IF(OR(L18="nee",J18="",M18="",N18="",O18=""),0,((DATEDIF(N18,O18+1,"m")*H18/12+DATEDIF(N18,O18+1,"md")*H18/365)*J18*M18))) | R18: =IF(AND(P18="",Q18=""),"",P18+Q18) | S18: =IF(OR(K18="",R18=""),"",ROUND(K18*R18,2)) | AB18: =IF(Z18="","",IFERROR(Z18*1.2%,0)) | AG18: =IF(AND(AC18="",AA18="",AD18="",AE18="",AF18="",Y18=""),"",IF(OR(AC18="nee",AA18="",AD18="",AE18="",AF18=""),0,((DATEDIF(AE18,AF18+1,"m")*Y18/12+DATEDIF(AE18,AF18+1,"md")*Y18/365)*AA18*AD18))) | AI18: =IF(AND(AG18="",AH18=""),"",AG18+AH18) | AJ18: =IF(OR(AB18="",AI18=""),"",AB18*AI18)
A19: L11 | K19: =IF(I19="","",IFERROR(I19*1.2%,0)) | P19: =IF(AND(L19="",J19="",M19="",N19="",O19="",H19=""),"",IF(OR(L19="nee",J19="",M19="",N19="",O19=""),0,((DATEDIF(N19,O19+1,"m")*H19/12+DATEDIF(N19,O19+1,"md")*H19/365)*J19*M19))) | R19: =IF(AND(P19="",Q19=""),"",P19+Q19) | S19: =IF(OR(K19="",R19=""),"",ROUND(K19*R19,2)) | AB19: =IF(Z19="","",IFERROR(Z19*1.2%,0)) | AG19: =IF(AND(AC19="",AA19="",AD19="",AE19="",AF19="",Y19=""),"",IF(OR(AC19="nee",AA19="",AD19="",AE19="",AF19=""),0,((DATEDIF(AE19,AF19+1,"m")*Y19/12+DATEDIF(AE19,AF19+1,"md")*Y19/365)*AA19*AD19))) | AI19: =IF(AND(AG19="",AH19=""),"",AG19+AH19) | AJ19: =IF(OR(AB19="",AI19=""),"",AB19*AI19)
A20: L12 | K20: =IF(I20="","",IFERROR(I20*1.2%,0)) | P20: =IF(AND(L20="",J20="",M20="",N20="",O20="",H20=""),"",IF(OR(L20="nee",J20="",M20="",N20="",O20=""),0,((DATEDIF(N20,O20+1,"m")*H20/12+DATEDIF(N20,O20+1,"md")*H20/365)*J20*M20))) | R20: =IF(AND(P20="",Q20=""),"",P20+Q20) | S20: =IF(OR(K20="",R20=""),"",ROUND(K20*R20,2)) | AB20: =IF(Z20="","",IFERROR(Z20*1.2%,0)) | AG20: =IF(AND(AC20="",AA20="",AD20="",AE20="",AF20="",Y20=""),"",IF(OR(AC20="nee",AA20="",AD20="",AE20="",AF20=""),0,((DATEDIF(AE20,AF20+1,"m")*Y20/12+DATEDIF(AE20,AF20+1,"md")*Y20/365)*AA20*AD20))) | AI20: =IF(AND(AG20="",AH20=""),"",AG20+AH20) | AJ20: =IF(OR(AB20="",AI20=""),"",AB20*AI20)
A21: L13 | K21: =IF(I21="","",IFERROR(I21*1.2%,0)) | P21: =IF(AND(L21="",J21="",M21="",N21="",O21="",H21=""),"",IF(OR(L21="nee",J21="",M21="",N21="",O21=""),0,((DATEDIF(N21,O21+1,"m")*H21/12+DATEDIF(N21,O21+1,"md")*H21/365)*J21*M21))) | R21: =IF(AND(P21="",Q21=""),"",P21+Q21) | S21: =IF(OR(K21="",R21=""),"",ROUND(K21*R21,2)) | AB21: =IF(Z21="","",IFERROR(Z21*1.2%,0)) | AG21: =IF(AND(AC21="",AA21="",AD21="",AE21="",AF21="",Y21=""),"",IF(OR(AC21="nee",AA21="",AD21="",AE21="",AF21=""),0,((DATEDIF(AE21,AF21+1,"m")*Y21/12+DATEDIF(AE21,AF21+1,"md")*Y21/365)*AA21*AD21))) | AI21: =IF(AND(AG21="",AH21=""),"",AG21+AH21) | AJ21: =IF(OR(AB21="",AI21=""),"",AB21*AI21)
... A208: L200 | K208: =IF(I208="","",IFERROR(I208*1.2%,0)) | P208: =IF(AND(L208="",J208="",M208="",N208="",O208="",H208=""),"",IF(OR(L208="nee",J208="",M208="",N208="",O208=""),0,((DATEDIF(N208,O208+1,"m")*H208/12+DATEDIF(N208,O208+1,"md")*H208/365)*J208*M208))) | R208: =IF(AND(P208="",Q208=""),"",P208+Q208) | S208: =IF(OR(K208="",R208=""),"",ROUND(K208*R208,2)) | AB208: =IF(Z208="","",IFERROR(Z208*1.2%,0)) | AG208: =IF(AND(AC208="",AA208="",AD208="",AE208="",AF208="",Y208=""),"",IF(OR(AC208="nee",AA208="",AD208="",AE208="",AF208=""),0,((DATEDIF(AE208,AF208+1,"m")*Y208/12+DATEDIF(AE208,AF208+1,"md")*Y208/365)*AA208*AD208))) | AI208: =IF(AND(AG208="",AH208=""),"",AG208+AH208) | AJ208: =IF(OR(AB208="",AI208=""),"",AB208*AI208)
S210: =IF(COUNT(S9:S208)=0,"",SUM(S9:S208))

Sheet Werkingskosten
A2: WERKINGSKOSTEN
A4: Werkingskosten zijn de rechtstreeks aan het project verbonden uitgaven die noodzakelijk zijn voor de algemene werking van het project. Indien de aanvrager niet BTW-plichtig is of een gemengd BTW-statuut heeft, kan de niet-terugvorderbare BTW ook ingebracht worden in het daarvoor voorziene veld in het begrotingssjabloon. De aanvrager diende bij het indienen van de projectbegroting het bewijs van dit BTW-statuut te leveren aan het Departement WEWIS.
L6: =IF(COUNTA(B8:K207)=0,"",L208) | N6: =IF(COUNTA(B8:K207,N8:N207)=0,"",SUM(Tabel3[Aanvaarde kost]))
A7: Bewijsstuknummer | B7: Opdrachtgevende Partnerorganisatie | C7: Factuurdatum | D7: Factuurnummer | E7: Omschrijving uit de begroting | F7: Omschrijving kost | G7: Naam leverancier of onderaannemer | H7: Opdracht onderhevig aan de wet op overheidsopdrachten? | I7: Doelstelling | J7: Kostprijs excl. BTW | K7: Niet-recupereerbare BTW (indien van toepassing) | L7: Totaal | M7: Toelichting | N7: Aanvaarde kost | O7: Toelichting aanvaarding of weigering
A8: W1 | L8: =IF(COUNTA(J8:K8)=0,"",J8+K8)
A9: W2 | L9: =IF(COUNTA(J9:K9)=0,"",J9+K9)
A10: W3 | L10: =IF(COUNTA(J10:K10)=0,"",J10+K10)
A11: W4 | L11: =IF(COUNTA(J11:K11)=0,"",J11+K11)
A12: W5 | L12: =IF(COUNTA(J12:K12)=0,"",J12+K12)
A13: W6 | L13: =IF(COUNTA(J13:K13)=0,"",J13+K13)
A14: W7 | L14: =IF(COUNTA(J14:K14)=0,"",J14+K14)
A15: W8 | L15: =IF(COUNTA(J15:K15)=0,"",J15+K15)
A16: W9 | L16: =IF(COUNTA(J16:K16)=0,"",J16+K16)
A17: W10 | L17: =IF(COUNTA(J17:K17)=0,"",J17+K17)
A18: W11 | L18: =IF(COUNTA(J18:K18)=0,"",J18+K18)
A19: W12 | L19: =IF(COUNTA(J19:K19)=0,"",J19+K19)
... A207: W200 | L207: =IF(COUNTA(J207:K207)=0,"",J207+K207)
L208: =SUM(L8:L207) -> 0

Sheet Externe prestaties
A2: EXTERNE PRESTATIES
A4: Deze rubriek is voorzien voor derden (bedrijven, zelfstandigen, freelancers, kenniscentra en onderzoeksinstellingen) die in opdracht van de aanvrager of projectpartner een dienst leveren als onderaannemer, alsook voor managementvennootschappen. De wetgeving op de overheidsopdrachten dient gerespecteerd te worden! Elke externe prestatie moet gemotiveerd worden in de projectaanvraag. De kost ervan moet onderbouwd zijn, hetzij via een offerte, via een factuur van een vergelijkbare opdracht of via een gemotiveerde kostenschatting. Externe prestaties dienen exclusief BTW in de begroting opgenomen te worden. Indien de aanvrager niet BTW-plichtig is of een gemengd BTW-statuut heeft, kan de niet-terugvorderbare BTW ook ingebracht worden in het daarvoor voorziene veld in het begrotingssjabloon. De aanvrager diende bij het indienen van de projectbegroting het bewijs van dit BTW-statuut te leveren aan het Departement WEWIS.
L6: =IF(COUNTA(B8:K307)=0,"",L308) | N6: =IF(COUNTA(B8:K307,N8:N307)=0,"",SUM(Tabel4[Aanvaarde kost]))
A7: Bewijsstuknummer | B7: Opdrachtgevende Partnerorganisatie | C7: Factuurdatum | D7: Factuurnummer | E7: Omschrijving uit de begroting | F7: Omschrijving prestatie | G7: Naam leverancier of onderaannemer | H7: Opdracht onderhevig aan de wet op de overheidsopdrachten? | I7: Doelstelling | J7: Kostprijs excl. BTW | K7: Niet-recupereerbare BTW (indien van toepassing) | L7: Totaal | M7: Toelichting | N7: Aanvaarde kost | O7: Toelichting aanvaarding of weigering
A8: E1 | L8: =IF(COUNTA(J8:K8)=0,"",J8+K8)
A9: E2 | L9: =IF(COUNTA(J9:K9)=0,"",J9+K9)
A10: E3 | L10: =IF(COUNTA(J10:K10)=0,"",J10+K10)
A11: E4 | L11: =IF(COUNTA(J11:K11)=0,"",J11+K11)
A12: E5 | L12: =IF(COUNTA(J12:K12)=0,"",J12+K12)
A13: E6 | L13: =IF(COUNTA(J13:K13)=0,"",J13+K13)
A14: E7 | L14: =IF(COUNTA(J14:K14)=0,"",J14+K14)
A15: E8 | L15: =IF(COUNTA(J15:K15)=0,"",J15+K15)
A16: E9 | L16: =IF(COUNTA(J16:K16)=0,"",J16+K16)
A17: E10 | L17: =IF(COUNTA(J17:K17)=0,"",J17+K17)
A18: E11 | L18: =IF(COUNTA(J18:K18)=0,"",J18+K18)
A19: E12 | L19: =IF(COUNTA(J19:K19)=0,"",J19+K19)
... A307: E300 | L307: =IF(COUNTA(J307:K307)=0,"",J307+K307)
L308: =SUM(L8:L307) -> 0

Sheet Investeringskosten
A2: INVESTERINGSKOSTEN
A4: De investeringen zijn uitsluitend beperkt kosten die boekhoudkundig geactiveerd worden, meer bepaald de digitale technologie dat ter beschikking gesteld wordt aan derden, zoals laptops, desktops, tablets (zoals vermeld in 2.3.1) en materiaal voor de inrichting van digipunten. Voor deze investeringskosten kunnen de aankoopkosten ingediend worden. Deze investeringen kunnen geenszins deel uitmaken van de normale investeringen die de investeringen moet doen in de normale bedrijfsvoering. Tweedehands materieel is aanvaardbaar indien aangekocht aan marktconforme voorwaarden van een derde. Bij financiële leasing van een investering (on-balance) zal niet de globale som van het leasingcontract in aanmerking worden genomen maar wel de maandelijkse afbetalingen gerelateerd aan de duur van het project en de gebruiksgraad.
N6: =IF(COUNTA(B8:K107,M8:M107)=0,"",N108) | P6: =IF(COUNTA(B8:K107,M8:M107,O8:O107,P8:P107)=0,"",SUM(Tabel5[Aanvaarde kost]))
A7: Bewijsstuknummer | B7: Opdrachtgevende Partnerorganisatie | C7: Factuurdatum | D7: Factuurnummer | E7: Omschrijving uit de begroting | F7: Omschrijving investering | G7: Naam leverancier of onderaannemer | H7: Opdracht onderhevig aan de wet op de overheidsopdrachten? | I7: Doelstelling | J7: Eenheidsprijs (ex. BTW) | K7: Aantal | L7: Kostprijs excl. BTW | M7: Niet-recupereerbare BTW (indien van toepassing) | N7: Totaal | O7: Toelichting | P7: Aanvaarde kost | Q7: Toelichting aanvaarding of weigering
A8: I1 | L8: =IF(COUNTA(J8:K8)=0,"",J8*K8) | N8: =IF(AND(L8="",M8=""),"",SUM(L8:M8))
A9: I2 | L9: =IF(COUNTA(J9:K9)=0,"",J9*K9) | N9: =IF(AND(L9="",M9=""),"",SUM(L9:M9))
A10: I3 | L10: =IF(COUNTA(J10:K10)=0,"",J10*K10) | N10: =IF(AND(L10="",M10=""),"",SUM(L10:M10))
A11: I4 | L11: =IF(COUNTA(J11:K11)=0,"",J11*K11) | N11: =IF(AND(L11="",M11=""),"",SUM(L11:M11))
A12: I5 | L12: =IF(COUNTA(J12:K12)=0,"",J12*K12) | N12: =IF(AND(L12="",M12=""),"",SUM(L12:M12))
A13: I6 | L13: =IF(COUNTA(J13:K13)=0,"",J13*K13) | N13: =IF(AND(L13="",M13=""),"",SUM(L13:M13))
A14: I7 | L14: =IF(COUNTA(J14:K14)=0,"",J14*K14) | N14: =IF(AND(L14="",M14=""),"",SUM(L14:M14))
A15: I8 | L15: =IF(COUNTA(J15:K15)=0,"",J15*K15) | N15: =IF(AND(L15="",M15=""),"",SUM(L15:M15))
A16: I9 | L16: =IF(COUNTA(J16:K16)=0,"",J16*K16) | N16: =IF(AND(L16="",M16=""),"",SUM(L16:M16))
A17: I10 | L17: =IF(COUNTA(J17:K17)=0,"",J17*K17) | N17: =IF(AND(L17="",M17=""),"",SUM(L17:M17))
A18: I11 | L18: =IF(COUNTA(J18:K18)=0,"",J18*K18) | N18: =IF(AND(L18="",M18=""),"",SUM(L18:M18))
A19: I12 | L19: =IF(COUNTA(J19:K19)=0,"",J19*K19) | N19: =IF(AND(L19="",M19=""),"",SUM(L19:M19))
... A107: I100 | L107: =IF(COUNTA(J107:K107)=0,"",J107*K107) | N107: =IF(AND(L107="",M107=""),"",SUM(L107:M107))
N108: =SUM(N8:N107) -> 0

Sheet Ontvangsten
A2: ONTVANGSTENZIJDE
A4: (1) Selecteer een van volgende opties: * Opbrengsten of ontvangsten (vb. projecteigen opbrengsten); * Private inbreng: andere (vb. eigen inbreng); * Publiek: elders gevraagde of verkregen subsidies; * Publiek: andere (specificeer nader)
I6: =I38 -> 0 | K6: =SUM(Tabel6[Aanvaarde ontvangsten]) -> 0
A7: Bewijsstuknummer | B7: Partnerorganisatie | C7: Factuurdatum | D7: Omschrijving uit de begroting | E7: Omschrijving ontvangst | F7: Doelstelling | G7: Financieringsbron (1) | H7: Persoonsgebonden (ja/nee) | I7: Bedrag | J7: Verantwoording van de inbreng (vb. type subsidiekanaal, ...) | K7: Aanvaarde ontvangsten | L7: Toelichting aanvaarding of weigering
A8: O1
A9: O2
A10: O3
A11: O4
A12: O5
A13: O6
A14: O7
A15: O8
A16: O9
A17: O10
A18: O11
A19: O12
... A37: O30
I38: =SUM(I8:I37) -> 0

Sheet Totaal Kosten
A2: TOTAAL KOSTEN | C2: TOTAAL GOEDGKEURDE KOSTEN
A4: ALGEMEEN OVERZICHT | B4: TOTALE KOSTEN | C4: GOEDGEKEURD | D4: UIT BEGROTING
A5: OVERZICHT KOSTEN
A6: LOONKOSTEN | B6: =Loonkosten!S7 | C6: =Loonkosten!U7
A7: OVERHEADKOSTEN (15%) | B7: =B6*15% -> #VALUE! | C7: =C6*15% -> #VALUE! | D7: =D6*15% -> 0
A8: WERKINGSKOSTEN | B8: =Werkingskosten!L6 | C8: =Werkingskosten!N6
A9: EXTERNE PRESTATIES | B9: ='Externe prestaties'!L6 | C9: ='Externe prestaties'!N6
A10: INVESTERINGSKOSTEN | B10: =Investeringskosten!N6 | C10: =Investeringskosten!P6
A11: TOTAAL KOSTENZIJDE | B11: =SUM(B6:B10) -> #VALUE! | C11: =SUM(C6:C10) -> #VALUE! | D11: =SUM(D6:D10) -> 0
A12: TOTAAL ONTVANGSTENZIJDE | B12: =Ontvangsten!I6 -> 0 | C12: =Ontvangsten!K6 -> 0
A13: TOTAAL BEDRAG | B13: =B11-B12 -> #VALUE! | C13: =C11-C12 -> #VALUE! | D13: =D11-D12 -> 0
F14: BEHAALDE SCHIJF
C15: Vastgelegd bedrag
C16: Gerechtvaardigd subsidiebedrag | D16: =IF(COUNTA(C13,D15,H17,H18)=0,"",MIN(C13,D15,H17,H18)) -> #VALUE! | G16: Aantal bezoekers | H16: Respectievelijke schijf
C17: Reeds ontvangen bedrag (voorschotten) | F17: Vooropgesteld | H17: =IF(G17<=1000,350000,IF(AND(G17>1000,G17<=1500),450000,IF(AND(G17>1500,G17<=1750),480000,IF(G17>1750,500000,"")))) -> 350000
C18: Saldo | D18: =D16-D17 -> #VALUE! | F18: Behaald | G18: =G22 -> 0 | H18: =IF(G18<=1000,350000,IF(AND(G18>1000,G18<=1500),450000,IF(AND(G18>1500,G18<=1750),480000,IF(G18>1750,500000,"")))) -> 350000
A20: TOTAAL KOSTEN PER DOELSTELLING | C20: GOEDGEKEURDE KOSTEN PER DOELSTELLING | G20: AANTAL BEZOEKERS | H20: KOSTPRIJS PER GEBRUIKER
A22: Alle doelstellingen | B22: =SUMIF(Tabel2[Doelstelling],A22,Tabel2[Totaal personeelskost])+SUMIF(Tabel3[Doelstelling],A22,Tabel3[Totaal])+SUMIF(Tabel4[Doelstelling],A22,Tabel4[Totaal])+SUMIF(Tabel5[Doelstelling],A22,Tabel5[Totaal])-SUMIF(Tabel6[Doelstelling],A22,Tabel6[Bedrag]) -> 0 | C22: =SUMIF(Tabel2[Doelstelling],'Totaal Kosten'!D22,Tabel2[Aanvaarde kost])+SUMIF(Tabel3[Doelstelling],'Totaal Kosten'!D22,Tabel3[Aanvaarde kost])+SUMIF(Tabel4[Doelstelling],D22,Tabel4[Aanvaarde kost])+SUMIF(Tabel5[Doelstelling],'Totaal Kosten'!D22,Tabel5[Aanvaarde kost])-SUMIF(Tabel6[Doelstelling],'Totaal Kosten'!D22,Tabel6[Aanvaarde ontvangsten]) -> 0 | D22: Alle doelstellingen | F22: Totaal | G22: =SUM(G23:G25) -> 0 | H22: =(C22+C23+C24+C25)/G22 -> #DIV/0!
A23: Doelstelling 1: hardware | B23: =SUMIF(Tabel2[Doelstelling],A23,Tabel2[Totaal personeelskost])+SUMIF(Tabel3[Doelstelling],A23,Tabel3[Totaal])+SUMIF(Tabel4[Doelstelling],A23,Tabel4[Totaal])+SUMIF(Tabel5[Doelstelling],A23,Tabel5[Totaal])-SUMIF(Tabel6[Doelstelling],A23,Tabel6[Bedrag]) -> 0 | C23: =SUMIF(Tabel2[Doelstelling],'Totaal Kosten'!D23,Tabel2[Aanvaarde kost])+SUMIF(Tabel3[Doelstelling],'Totaal Kosten'!D23,Tabel3[Aanvaarde kost])+SUMIF(Tabel4[Doelstelling],D23,Tabel4[Aanvaarde kost])+SUMIF(Tabel5[Doelstelling],'Totaal Kosten'!D23,Tabel5[Aanvaarde kost])-SUMIF(Tabel6[Doelstelling],'Totaal Kosten'!D23,Tabel6[Aanvaarde ontvangsten]) -> 0 | D23: Doelstelling 1: hardware | F23: Doelstelling 1 | H23: =C23/G23 -> #DIV/0!
A24: Doelstelling 2: opleidingen | B24: =SUMIF(Tabel2[Doelstelling],A24,Tabel2[Totaal personeelskost])+SUMIF(Tabel3[Doelstelling],A24,Tabel3[Totaal])+SUMIF(Tabel4[Doelstelling],A24,Tabel4[Totaal])+SUMIF(Tabel5[Doelstelling],A24,Tabel5[Totaal])-SUMIF(Tabel6[Doelstelling],A24,Tabel6[Bedrag]) -> 0 | C24: =SUMIF(Tabel2[Doelstelling],'Totaal Kosten'!D24,Tabel2[Aanvaarde kost])+SUMIF(Tabel3[Doelstelling],'Totaal Kosten'!D24,Tabel3[Aanvaarde kost])+SUMIF(Tabel4[Doelstelling],D24,Tabel4[Aanvaarde kost])+SUMIF(Tabel5[Doelstelling],'Totaal Kosten'!D24,Tabel5[Aanvaarde kost])-SUMIF(Tabel6[Doelstelling],'Totaal Kosten'!D24,Tabel6[Aanvaarde ontvangsten]) -> 0 | D24: Doelstelling 2: opleidingen | F24: Doelstelling 2 | H24: =C24/G24 -> #DIV/0!
A25: Doelstelling 3: essentiële diensten | B25: =SUMIF(Tabel2[Doelstelling],A25,Tabel2[Totaal personeelskost])+SUMIF(Tabel3[Doelstelling],A25,Tabel3[Totaal])+SUMIF(Tabel4[Doelstelling],A25,Tabel4[Totaal])+SUMIF(Tabel5[Doelstelling],A25,Tabel5[Totaal])-SUMIF(Tabel6[Doelstelling],A25,Tabel6[Bedrag]) -> 0 | C25: =SUMIF(Tabel2[Doelstelling],'Totaal Kosten'!D25,Tabel2[Aanvaarde kost])+SUMIF(Tabel3[Doelstelling],'Totaal Kosten'!D25,Tabel3[Aanvaarde kost])+SUMIF(Tabel4[Doelstelling],D25,Tabel4[Aanvaarde kost])+SUMIF(Tabel5[Doelstelling],'Totaal Kosten'!D25,Tabel5[Aanvaarde kost])-SUMIF(Tabel6[Doelstelling],'Totaal Kosten'!D25,Tabel6[Aanvaarde ontvangsten]) -> 0 | D25: Doelstelling 3: essentiële diensten | F25: Doelstelling 3 | H25: =C25/G25 -> #DIV/0!
